BEGIN:VCALENDAR
VERSION:2.0
PRODID:-//wp-events-plugin.com//7.1.7//EN
TZID:Europe/Berlin
X-WR-TIMEZONE:Europe/Berlin
BEGIN:VEVENT
UID:37@guitar-submarine.de
DTSTART;TZID=Europe/Berlin:20190323T110000
DTEND;TZID=Europe/Berlin:20190324T140000
DTSTAMP:20200414T130657Z
URL:https://guitar-submarine.de/events/tauche-ein-in-die-welt-der-liedbegl
 eitung-singen-zur-gitarre-oder-gehirnjogging-fuer-gitarristen-3/
SUMMARY:Tauche ein in die Welt der Liedbegleitung - Singen zur Gitarre oder
  Gehirnjogging für Gitarristen
DESCRIPTION:Du möchtest zur Gitarre singen\, weißt aber nicht\, wie das g
 eht? Du traust Dich nicht zu singen? Du kannst ein Lied auf der Gitarre sp
 ielen ODER es singen\, aber nicht beides gleichzeitig? Anhand einfacher un
 d bekannter Lieder üben wir in diesem Workshop das Singen zur Gitarre. Da
 bei beschäftigen wir uns mit Koordinationsübungen\, verschiedenen Anschl
 agstechniken\, Übemethoden aber auch Basics wie dem Töne-Treffen beim Si
 ngen. Der Schwerpunkt des Kurses liegt in der Kombination aus Gesang und G
 itarre.\n\nVoraussetzungen sind Grundakkorde auf der Gitarre (ohne Barré)
 \, einfache Anschlagsmuster\, der Mut in einer Gruppe zu singen und Spaß 
 am gemeinsamen Musizieren und Experimentieren.\n\nBitte eine Gitarre\, Sti
 ft\, Papier und einen Notenständer mitbringen.\nWeitere Infos und Anmeldu
 ng unter info@guitar-submarine.de.\n\nDatum:&nbsp\;&nbsp\;&nbsp\;&nbsp\;&n
 bsp\;&nbsp\;&nbsp\;&nbsp\;&nbsp\; 23./24. März 2019\nZeit:&nbsp\;&nbsp\;&
 nbsp\;&nbsp\;&nbsp\;&nbsp\;&nbsp\;&nbsp\;&nbsp\;&nbsp\;&nbsp\;&nbsp\;&nbsp
 \;&nbsp\;&nbsp\; 11:00-14:00 Uhr\nOrt:&nbsp\;&nbsp\;&nbsp\;&nbsp\;&nbsp\;&
 nbsp\;&nbsp\;&nbsp\;&nbsp\;&nbsp\;&nbsp\;&nbsp\;&nbsp\;&nbsp\;&nbsp\;&nbsp
 \; In den Räumen der VHS im Alstertal\, Rolfinckstraße 6a\,&nbsp\;22391 
 Hamburg\nPreis:&nbsp\;&nbsp\;&nbsp\;&nbsp\;&nbsp\;&nbsp\;&nbsp\;&nbsp\;&nb
 sp\;&nbsp\;&nbsp\;&nbsp\;&nbsp\; 59\,-€
CATEGORIES:Konzerte
END:VEVENT
BEGIN:VTIMEZONE
TZID:Europe/Berlin
X-LIC-LOCATION:Europe/Berlin
BEGIN:STANDARD
DTSTART:20181028T020000
TZOFFSETFROM:+0200
TZOFFSETTO:+0100
TZNAME:CET
END:STANDARD
END:VTIMEZONE
END:VCALENDAR