BEGIN:VCALENDAR
VERSION:2.0
PRODID:-//wp-events-plugin.com//7.1.7//EN
TZID:Europe/Berlin
X-WR-TIMEZONE:Europe/Berlin
BEGIN:VEVENT
UID:16@guitar-submarine.de
DTSTART;TZID=Europe/Berlin:20170518T190000
DTEND;TZID=Europe/Berlin:20170518T203000
DTSTAMP:20200801T012554Z
URL:https://guitar-submarine.de/events/songbegleitung-im-alstertal-2/
SUMMARY:Neuer Kurs: Songbegleitung im Alstertal
DESCRIPTION:Beginn eines neuen Kurses "Liedbegleitung für Fortgeschrittene
 ". Wir erarbeiten Songs verschiedener Stilistiken. Barré Akkorde\, versch
 iedene Anschlagsformen und Zupfmuster werden vorausgesetzt.\n\nBei Interes
 se nehmen Sie bitte Kontakt zu mir auf (info@guitar-submarine.de)!\n\nDaue
 r: 10 Abende\, immer donnerstags\nDozentin: Nadja Günther\nPreis: 110\,-
 €\nOrt: Gemeindehaus der Marktkirche Poppenbüttel\, Poppenbüttler Mark
 t 2\, Hamburg\n\n&nbsp\;
CATEGORIES:Kurse
END:VEVENT
BEGIN:VTIMEZONE
TZID:Europe/Berlin
X-LIC-LOCATION:Europe/Berlin
BEGIN:DAYLIGHT
DTSTART:20170326T030000
TZOFFSETFROM:+0100
TZOFFSETTO:+0200
TZNAME:CEST
END:DAYLIGHT
END:VTIMEZONE
END:VCALENDAR