BEGIN:VCALENDAR
VERSION:2.0
PRODID:-//wp-events-plugin.com//7.1.7//EN
TZID:Europe/Berlin
X-WR-TIMEZONE:Europe/Berlin
BEGIN:VEVENT
UID:15@guitar-submarine.de
DTSTART;TZID=Europe/Berlin:20171104T100000
DTEND;TZID=Europe/Berlin:20171105T163000
DTSTAMP:20200511T220657Z
URL:https://guitar-submarine.de/events/guitar-submarine-tauche-ein-in-die-
 welt-der-beatles-gitarrenensemble/
SUMMARY:Guitar Submarine - Tauche ein in die Welt der Beatles - GITARRENENS
 EMBLE
DESCRIPTION:Nähere Informationen zum Workshop gibt es hier.\n\nDozentin: N
 adja Günther\nKontakt: info@guitar-submarine.de\nOrt: In den Räumen der 
 VHS im Alstertal\, Rolfinckstraße 6a\, Hamburg.\nPreis: 149\,-€\n\nDown
 load Anmeldeformular für Erwachsene
CATEGORIES:Workshop
END:VEVENT
BEGIN:VTIMEZONE
TZID:Europe/Berlin
X-LIC-LOCATION:Europe/Berlin
BEGIN:STANDARD
DTSTART:20171029T020000
TZOFFSETFROM:+0200
TZOFFSETTO:+0100
TZNAME:CET
END:STANDARD
END:VTIMEZONE
END:VCALENDAR